BEGIN:VCALENDAR
VERSION:2.0
PRODID:-//Suspended.de - ECPv6.10.1//NONSGML v1.0//EN
CALSCALE:GREGORIAN
METHOD:PUBLISH
X-WR-CALNAME:Suspended.de
X-ORIGINAL-URL:https://www.sus-pended.de
X-WR-CALDESC:Veranstaltungen für Suspended.de
REFRESH-INTERVAL;VALUE=DURATION:PT1H
X-Robots-Tag:noindex
X-PUBLISHED-TTL:PT1H
BEGIN:VTIMEZONE
TZID:Europe/Berlin
BEGIN:DAYLIGHT
TZOFFSETFROM:+0100
TZOFFSETTO:+0200
TZNAME:CEST
DTSTART:20240331T010000
END:DAYLIGHT
BEGIN:STANDARD
TZOFFSETFROM:+0200
TZOFFSETTO:+0100
TZNAME:CET
DTSTART:20241027T010000
END:STANDARD
END:VTIMEZONE
BEGIN:VEVENT
DTSTART;TZID=Europe/Berlin:20240405T193000
DTEND;TZID=Europe/Berlin:20240405T233000
DTSTAMP:20260425T122928
CREATED:20240211T123314Z
LAST-MODIFIED:20240211T130318Z
UID:1987-1712345400-1712359800@www.sus-pended.de
SUMMARY:Sunset Avenue im "Zum Pfefferkorn"
DESCRIPTION:Die Band Sunset Avenue aus Oldenburg ist aus der früheren Formation Suspended hervorgegangen und hat bereits im norddeutschen Raum zahlreiche Zuhörer mit ihrem einzigartigen Sound begeistert. \nBandleader Ralf Nordmeyer hat die Songs von Suspended vollständig überarbeitet und das Repertoire um neue Kompositionen erweitert. \nMal präsentieren sie sich rockig\, dann wieder in verträumten Popklängen\, leichtem Jazz\, Blues oder Singer-Songwriter-Stilen. Bei Sunset Avenue verschwimmen die Grenzen zwischen den Genres gekonnt. \nDie talentierte serbische Sängerin und Pianistin Jovana Kokor verleiht den Songs mit ihrer einzigartigen Stimme eine besondere Note\, die direkt aus dem Herzen kommt. \nBesetzung:\nJovana Kokor (Gesang/Piano)\nKirsten Nordmeyer (Bass)\nRalf Nordmeyer (Gitarre)\nKlaus Rodiek (Schlagzeug) \nDirekter Link zum Ticketshop für Eure Konzert: https://login.vr-ticket.de/kul-tour-hatten/sunsetavenue/
URL:https://www.sus-pended.de/event/1987/
LOCATION:Zum Pfefferkorn\, Bahnhofstraße 11\, Hatten-Sandkrug\, 26209
END:VEVENT
END:VCALENDAR